BEGIN:VCALENDAR
VERSION:2.0
PRODID:-//Love INC of the Black Hills - ECPv6.11.2//NONSGML v1.0//EN
CALSCALE:GREGORIAN
METHOD:PUBLISH
X-WR-CALNAME:Love INC of the Black Hills
X-ORIGINAL-URL:https://loveinconline.com
X-WR-CALDESC:Events for Love INC of the Black Hills
REFRESH-INTERVAL;VALUE=DURATION:PT1H
X-Robots-Tag:noindex
X-PUBLISHED-TTL:PT1H
BEGIN:VTIMEZONE
TZID:America/Denver
BEGIN:DAYLIGHT
TZOFFSETFROM:-0700
TZOFFSETTO:-0600
TZNAME:MDT
DTSTART:20250309T090000
END:DAYLIGHT
BEGIN:STANDARD
TZOFFSETFROM:-0600
TZOFFSETTO:-0700
TZNAME:MST
DTSTART:20251102T080000
END:STANDARD
END:VTIMEZONE
BEGIN:VEVENT
DTSTART;TZID=America/Denver:20250603T110000
DTEND;TZID=America/Denver:20250603T123000
DTSTAMP:20260423T184354
CREATED:20250509T020129Z
LAST-MODIFIED:20250509T020625Z
UID:10000162-1748948400-1748953800@loveinconline.com
SUMMARY:Active Listening Training Class
DESCRIPTION:  \n \nActive listening is an essential skill set for communicating to our participants that they are loved\, they belong\, they have choices\, and they have something to offer. Active listening involves attentively listening to the speaker and then responding and reflecting on what’s said to achieve mutual understanding and trust. While this training is aimed at Love INC volunteers\, anyone from the community is welcome to attend. Lunch and the class are provided free of charge\, please RSVP so we can make sure we have enough food for everyone attending. \nClass will take place at Love INC’s offices in Rapid City (414 E. Omaha St) on June 3rd from 11am-12:30pm. \nRSVP for this class HERE
URL:https://loveinconline.com/event/active-listening-training-class/
LOCATION:Love INC Black Hills\, 414 E Omaha St\, Rapid City\, SD\, 57701\, United States
END:VEVENT
END:VCALENDAR