BEGIN:VCALENDAR
VERSION:2.0
PRODID:-//Love INC of the Black Hills - ECPv6.11.2//NONSGML v1.0//EN
CALSCALE:GREGORIAN
METHOD:PUBLISH
X-WR-CALNAME:Love INC of the Black Hills
X-ORIGINAL-URL:https://loveinconline.com
X-WR-CALDESC:Events for Love INC of the Black Hills
REFRESH-INTERVAL;VALUE=DURATION:PT1H
X-Robots-Tag:noindex
X-PUBLISHED-TTL:PT1H
BEGIN:VTIMEZONE
TZID:UTC
BEGIN:STANDARD
TZOFFSETFROM:+0000
TZOFFSETTO:+0000
TZNAME:UTC
DTSTART:20250101T000000
END:STANDARD
END:VTIMEZONE
BEGIN:VEVENT
DTSTART;TZID=UTC:20250712T090000
DTEND;TZID=UTC:20250712T130000
DTSTAMP:20260421T012601
CREATED:20250617T214911Z
LAST-MODIFIED:20250630T165824Z
UID:10000164-1752310800-1752325200@loveinconline.com
SUMMARY:Ride\, Recline\, & Rhythm Parking Lot Sale
DESCRIPTION: **Ride\, Recline\, & Rhythm** **Join us for music\, treats\, deals\, and fun!**\nYou’re invited to a laid-back summer sal in the parking lot with something for everyone!\n **Live Music:** Enjoy an unforgettable performance by *Project BeethoVAN* from the Rushmore Music Festival – bringing classical vibes from 9am-11 am **Sweet Treats:** Grab a slice of delicious cheesecake from *Fork Real Café*! **Special Sales:** Both *RISE* and *Thrive* stores will be open with exclusive parking deals. All parking lot sale items must be taken home day of the event. **Sticker Stop with KSLT:** Stop by the *KSLT* area for free stickers and swag!\n July 129am-1pm Love INC Parking Lot 414 E. Omaha Street in Rapid City\n\nAll parking lot sale items must be taken home day of the event (no holds).
URL:https://loveinconline.com/event/ride-recline-rhythm-parking-lot-sale/
LOCATION:Love INC Black Hills\, 414 E Omaha St\, Rapid City\, SD\, 57701\, United States
END:VEVENT
END:VCALENDAR