BEGIN:VCALENDAR
VERSION:2.0
PRODID:-//Love INC of the Black Hills - ECPv6.11.2//NONSGML v1.0//EN
CALSCALE:GREGORIAN
METHOD:PUBLISH
X-WR-CALNAME:Love INC of the Black Hills
X-ORIGINAL-URL:https://loveinconline.com
X-WR-CALDESC:Events for Love INC of the Black Hills
REFRESH-INTERVAL;VALUE=DURATION:PT1H
X-Robots-Tag:noindex
X-PUBLISHED-TTL:PT1H
BEGIN:VTIMEZONE
TZID:UTC
BEGIN:STANDARD
TZOFFSETFROM:+0000
TZOFFSETTO:+0000
TZNAME:UTC
DTSTART:20260101T000000
END:STANDARD
END:VTIMEZONE
BEGIN:VEVENT
DTSTART;TZID=UTC:20260116T113000
DTEND;TZID=UTC:20260116T123000
DTSTAMP:20260420T130017
CREATED:20260107T025632Z
LAST-MODIFIED:20260107T025632Z
UID:10001285-1768563000-1768566600@loveinconline.com
SUMMARY:Foster Friendly Church Coalition Luncheon
DESCRIPTION:You’re invited to the Foster Friendly Church Coalition Luncheon hosted by South Dakota Kids Belong. Join us as we reflect on this past year and look ahead to how churches can continue to deepen their foster-friendly impact in our communities. \n\n\n\n Friday\, January 16\n\n\n 11:30am–12:30pm\n\n\n 414 E. Omaha St. \n\n\n\nHear from Paula Culver as she shares about the complex realities of foster care and adoption\, highlighting both the beauty and the hard\, and how pastors and ministry leaders can be better equipped to support those walking this journey. \n\n\n\n\n Free lunch included with RSVP\, just fill out the form below. \n\n\n                \n                        \n                            January 16 Foster Friendly Church Coalition Luncheon RSVP\n                             \n                        \n                        Name(Required)\n                            \n                            \n                                                    First\n                                                    \n                                                \n                            \n                            \n                                                            Last\n                                                            \n                                                        \n                            \n                        Email(Required)\n                            \n                        PhoneOpt in to recieve texts updates?\n								\n								Yes\n							\n								\n								No
URL:https://loveinconline.com/event/foster-friendly-church-coalition-luncheon-2/
LOCATION:Love INC Black Hills\, 414 E Omaha St\, Rapid City\, SD\, 57701\, United States
END:VEVENT
END:VCALENDAR