BEGIN:VCALENDAR
VERSION:2.0
PRODID:-//Love INC of the Black Hills - ECPv6.11.2//NONSGML v1.0//EN
CALSCALE:GREGORIAN
METHOD:PUBLISH
X-ORIGINAL-URL:https://loveinconline.com
X-WR-CALDESC:Events for Love INC of the Black Hills
REFRESH-INTERVAL;VALUE=DURATION:PT1H
X-Robots-Tag:noindex
X-PUBLISHED-TTL:PT1H
BEGIN:VTIMEZONE
TZID:UTC
BEGIN:STANDARD
TZOFFSETFROM:+0000
TZOFFSETTO:+0000
TZNAME:UTC
DTSTART:20260101T000000
END:STANDARD
END:VTIMEZONE
BEGIN:VEVENT
DTSTART;TZID=UTC:20260222T090000
DTEND;TZID=UTC:20260222T150000
DTSTAMP:20260420T093202
CREATED:20260112T235434Z
LAST-MODIFIED:20260112T235434Z
UID:10001289-1771750800-1771772400@loveinconline.com
SUMMARY:Counts Car and Cycle Show
DESCRIPTION:
URL:https://loveinconline.com/event/counts-car-and-cycle-show/2026-02-22/
LOCATION:The Monument\, 444 N. Mount Rushmore Road\, Rapid City\, SD\, 57701\, United States
END:VEVENT
END:VCALENDAR