BEGIN:VCALENDAR
VERSION:2.0
PRODID:-//Love INC of the Black Hills - ECPv6.11.2//NONSGML v1.0//EN
CALSCALE:GREGORIAN
METHOD:PUBLISH
X-WR-CALNAME:Love INC of the Black Hills
X-ORIGINAL-URL:https://loveinconline.com
X-WR-CALDESC:Events for Love INC of the Black Hills
REFRESH-INTERVAL;VALUE=DURATION:PT1H
X-Robots-Tag:noindex
X-PUBLISHED-TTL:PT1H
BEGIN:VTIMEZONE
TZID:UTC
BEGIN:STANDARD
TZOFFSETFROM:+0000
TZOFFSETTO:+0000
TZNAME:UTC
DTSTART:20260101T000000
END:STANDARD
END:VTIMEZONE
BEGIN:VTIMEZONE
TZID:America/Denver
BEGIN:DAYLIGHT
TZOFFSETFROM:-0700
TZOFFSETTO:-0600
TZNAME:MDT
DTSTART:20260308T090000
END:DAYLIGHT
BEGIN:STANDARD
TZOFFSETFROM:-0600
TZOFFSETTO:-0700
TZNAME:MST
DTSTART:20261101T080000
END:STANDARD
END:VTIMEZONE
BEGIN:VEVENT
DTSTART;VALUE=DATE:20260801
DTEND;VALUE=DATE:20260802
DTSTAMP:20260420T224824
CREATED:20260225T232414Z
LAST-MODIFIED:20260225T233121Z
UID:10001342-1785542400-1785628799@loveinconline.com
SUMMARY:Fellowship of Christian Athlets Summer Camp
DESCRIPTION:  \n  \n\nWhen: June 16th – June 19th\, 2026\n \nWhere: Black Hills State University | Spearfish\, SD\n \nWho: Boys and Girls Grades 7th-12th (Fall 2026)\n \n\nCost: $425 // $550 – Golf \n**$50 off if you register BEFORE April 1st**\n \nSports: Boys & Girls Basketball\, Cheer\, Cross Country\, Football\, Golf\, Swimming\, Soccer\, Tennis\, Track\, Wrestling\, Volleyball & Motocross\n \nWhat You Get: Deepened relationship with Jesus\, FCA Camp Theme T-shirt\, FCA study bible\, quality housing & meals\, exceptional athletic instruction\, practical leadership skills\, inspirational speakers\, lifelong friendships\, & more!\n\n\n\nUnable to pay the full cost today–  \nYou can opt to pay a $100 deposit at the time of registration. The final payment will automatically be processed on the same card on June  9th. \n** $100 deposit is nonrefundable on and after June 9th** \n  \nIf you need financial assistance to attend camp – you must apply for Scholarships BEFORE registering. If your Scholarship request is accepted and processed\, you will be given a code to enter during registration to receive your financial assistance. Each state has their own scholarship process\, please apply in your state. \nRegister at: https://www.southdakotafca.org/camp
URL:https://loveinconline.com/event/fellowship-of-christian-athlets-summer-camp/2026-08-01/
LOCATION:SD
END:VEVENT
BEGIN:VEVENT
DTSTART;TZID=America/Denver:20260801T093000
DTEND;TZID=America/Denver:20260801T143000
DTSTAMP:20260420T224824
CREATED:20260418T195218Z
LAST-MODIFIED:20260418T195218Z
UID:10001671-1785576600-1785594600@loveinconline.com
SUMMARY:The Warrior Conference
DESCRIPTION:
URL:https://loveinconline.com/event/the-warrior-conference/
LOCATION:Freedom Motorcycle Church\, 4813 S. Canyon Road\, Rapid City\, SD\, 57702\, United States
END:VEVENT
END:VCALENDAR