BEGIN:VCALENDAR
VERSION:2.0
PRODID:-//Love INC of the Black Hills - ECPv6.11.2//NONSGML v1.0//EN
CALSCALE:GREGORIAN
METHOD:PUBLISH
X-ORIGINAL-URL:https://loveinconline.com
X-WR-CALDESC:Events for Love INC of the Black Hills
REFRESH-INTERVAL;VALUE=DURATION:PT1H
X-Robots-Tag:noindex
X-PUBLISHED-TTL:PT1H
BEGIN:VTIMEZONE
TZID:UTC
BEGIN:STANDARD
TZOFFSETFROM:+0000
TZOFFSETTO:+0000
TZNAME:UTC
DTSTART:20270101T000000
END:STANDARD
END:VTIMEZONE
BEGIN:VEVENT
DTSTART;VALUE=DATE:20270609
DTEND;VALUE=DATE:20270610
DTSTAMP:20260419T202635
CREATED:20260225T232414Z
LAST-MODIFIED:20260225T233121Z
UID:10001654-1812499200-1812585599@loveinconline.com
SUMMARY:Fellowship of Christian Athlets Summer Camp
DESCRIPTION:  \n  \n\nWhen: June 16th – June 19th\, 2026\n \nWhere: Black Hills State University | Spearfish\, SD\n \nWho: Boys and Girls Grades 7th-12th (Fall 2026)\n \n\nCost: $425 // $550 – Golf \n**$50 off if you register BEFORE April 1st**\n \nSports: Boys & Girls Basketball\, Cheer\, Cross Country\, Football\, Golf\, Swimming\, Soccer\, Tennis\, Track\, Wrestling\, Volleyball & Motocross\n \nWhat You Get: Deepened relationship with Jesus\, FCA Camp Theme T-shirt\, FCA study bible\, quality housing & meals\, exceptional athletic instruction\, practical leadership skills\, inspirational speakers\, lifelong friendships\, & more!\n\n\n\nUnable to pay the full cost today–  \nYou can opt to pay a $100 deposit at the time of registration. The final payment will automatically be processed on the same card on June  9th. \n** $100 deposit is nonrefundable on and after June 9th** \n  \nIf you need financial assistance to attend camp – you must apply for Scholarships BEFORE registering. If your Scholarship request is accepted and processed\, you will be given a code to enter during registration to receive your financial assistance. Each state has their own scholarship process\, please apply in your state. \nRegister at: https://www.southdakotafca.org/camp
URL:https://loveinconline.com/event/fellowship-of-christian-athlets-summer-camp/2027-06-09/
END:VEVENT
BEGIN:VEVENT
DTSTART;VALUE=DATE:20270610
DTEND;VALUE=DATE:20270611
DTSTAMP:20260419T202635
CREATED:20260225T232414Z
LAST-MODIFIED:20260225T233121Z
UID:10001655-1812585600-1812671999@loveinconline.com
SUMMARY:Fellowship of Christian Athlets Summer Camp
DESCRIPTION:  \n  \n\nWhen: June 16th – June 19th\, 2026\n \nWhere: Black Hills State University | Spearfish\, SD\n \nWho: Boys and Girls Grades 7th-12th (Fall 2026)\n \n\nCost: $425 // $550 – Golf \n**$50 off if you register BEFORE April 1st**\n \nSports: Boys & Girls Basketball\, Cheer\, Cross Country\, Football\, Golf\, Swimming\, Soccer\, Tennis\, Track\, Wrestling\, Volleyball & Motocross\n \nWhat You Get: Deepened relationship with Jesus\, FCA Camp Theme T-shirt\, FCA study bible\, quality housing & meals\, exceptional athletic instruction\, practical leadership skills\, inspirational speakers\, lifelong friendships\, & more!\n\n\n\nUnable to pay the full cost today–  \nYou can opt to pay a $100 deposit at the time of registration. The final payment will automatically be processed on the same card on June  9th. \n** $100 deposit is nonrefundable on and after June 9th** \n  \nIf you need financial assistance to attend camp – you must apply for Scholarships BEFORE registering. If your Scholarship request is accepted and processed\, you will be given a code to enter during registration to receive your financial assistance. Each state has their own scholarship process\, please apply in your state. \nRegister at: https://www.southdakotafca.org/camp
URL:https://loveinconline.com/event/fellowship-of-christian-athlets-summer-camp/2027-06-10/
END:VEVENT
BEGIN:VEVENT
DTSTART;VALUE=DATE:20270611
DTEND;VALUE=DATE:20270612
DTSTAMP:20260419T202635
CREATED:20260225T232414Z
LAST-MODIFIED:20260225T233121Z
UID:10001656-1812672000-1812758399@loveinconline.com
SUMMARY:Fellowship of Christian Athlets Summer Camp
DESCRIPTION:  \n  \n\nWhen: June 16th – June 19th\, 2026\n \nWhere: Black Hills State University | Spearfish\, SD\n \nWho: Boys and Girls Grades 7th-12th (Fall 2026)\n \n\nCost: $425 // $550 – Golf \n**$50 off if you register BEFORE April 1st**\n \nSports: Boys & Girls Basketball\, Cheer\, Cross Country\, Football\, Golf\, Swimming\, Soccer\, Tennis\, Track\, Wrestling\, Volleyball & Motocross\n \nWhat You Get: Deepened relationship with Jesus\, FCA Camp Theme T-shirt\, FCA study bible\, quality housing & meals\, exceptional athletic instruction\, practical leadership skills\, inspirational speakers\, lifelong friendships\, & more!\n\n\n\nUnable to pay the full cost today–  \nYou can opt to pay a $100 deposit at the time of registration. The final payment will automatically be processed on the same card on June  9th. \n** $100 deposit is nonrefundable on and after June 9th** \n  \nIf you need financial assistance to attend camp – you must apply for Scholarships BEFORE registering. If your Scholarship request is accepted and processed\, you will be given a code to enter during registration to receive your financial assistance. Each state has their own scholarship process\, please apply in your state. \nRegister at: https://www.southdakotafca.org/camp
URL:https://loveinconline.com/event/fellowship-of-christian-athlets-summer-camp/2027-06-11/
END:VEVENT
BEGIN:VEVENT
DTSTART;VALUE=DATE:20270612
DTEND;VALUE=DATE:20270613
DTSTAMP:20260419T202635
CREATED:20260225T232414Z
LAST-MODIFIED:20260225T233121Z
UID:10001657-1812758400-1812844799@loveinconline.com
SUMMARY:Fellowship of Christian Athlets Summer Camp
DESCRIPTION:  \n  \n\nWhen: June 16th – June 19th\, 2026\n \nWhere: Black Hills State University | Spearfish\, SD\n \nWho: Boys and Girls Grades 7th-12th (Fall 2026)\n \n\nCost: $425 // $550 – Golf \n**$50 off if you register BEFORE April 1st**\n \nSports: Boys & Girls Basketball\, Cheer\, Cross Country\, Football\, Golf\, Swimming\, Soccer\, Tennis\, Track\, Wrestling\, Volleyball & Motocross\n \nWhat You Get: Deepened relationship with Jesus\, FCA Camp Theme T-shirt\, FCA study bible\, quality housing & meals\, exceptional athletic instruction\, practical leadership skills\, inspirational speakers\, lifelong friendships\, & more!\n\n\n\nUnable to pay the full cost today–  \nYou can opt to pay a $100 deposit at the time of registration. The final payment will automatically be processed on the same card on June  9th. \n** $100 deposit is nonrefundable on and after June 9th** \n  \nIf you need financial assistance to attend camp – you must apply for Scholarships BEFORE registering. If your Scholarship request is accepted and processed\, you will be given a code to enter during registration to receive your financial assistance. Each state has their own scholarship process\, please apply in your state. \nRegister at: https://www.southdakotafca.org/camp
URL:https://loveinconline.com/event/fellowship-of-christian-athlets-summer-camp/2027-06-12/
END:VEVENT
BEGIN:VEVENT
DTSTART;VALUE=DATE:20270613
DTEND;VALUE=DATE:20270614
DTSTAMP:20260419T202635
CREATED:20260225T232414Z
LAST-MODIFIED:20260225T233121Z
UID:10001658-1812844800-1812931199@loveinconline.com
SUMMARY:Fellowship of Christian Athlets Summer Camp
DESCRIPTION:  \n  \n\nWhen: June 16th – June 19th\, 2026\n \nWhere: Black Hills State University | Spearfish\, SD\n \nWho: Boys and Girls Grades 7th-12th (Fall 2026)\n \n\nCost: $425 // $550 – Golf \n**$50 off if you register BEFORE April 1st**\n \nSports: Boys & Girls Basketball\, Cheer\, Cross Country\, Football\, Golf\, Swimming\, Soccer\, Tennis\, Track\, Wrestling\, Volleyball & Motocross\n \nWhat You Get: Deepened relationship with Jesus\, FCA Camp Theme T-shirt\, FCA study bible\, quality housing & meals\, exceptional athletic instruction\, practical leadership skills\, inspirational speakers\, lifelong friendships\, & more!\n\n\n\nUnable to pay the full cost today–  \nYou can opt to pay a $100 deposit at the time of registration. The final payment will automatically be processed on the same card on June  9th. \n** $100 deposit is nonrefundable on and after June 9th** \n  \nIf you need financial assistance to attend camp – you must apply for Scholarships BEFORE registering. If your Scholarship request is accepted and processed\, you will be given a code to enter during registration to receive your financial assistance. Each state has their own scholarship process\, please apply in your state. \nRegister at: https://www.southdakotafca.org/camp
URL:https://loveinconline.com/event/fellowship-of-christian-athlets-summer-camp/2027-06-13/
END:VEVENT
BEGIN:VEVENT
DTSTART;VALUE=DATE:20270614
DTEND;VALUE=DATE:20270615
DTSTAMP:20260419T202635
CREATED:20260225T232414Z
LAST-MODIFIED:20260225T233121Z
UID:10001659-1812931200-1813017599@loveinconline.com
SUMMARY:Fellowship of Christian Athlets Summer Camp
DESCRIPTION:  \n  \n\nWhen: June 16th – June 19th\, 2026\n \nWhere: Black Hills State University | Spearfish\, SD\n \nWho: Boys and Girls Grades 7th-12th (Fall 2026)\n \n\nCost: $425 // $550 – Golf \n**$50 off if you register BEFORE April 1st**\n \nSports: Boys & Girls Basketball\, Cheer\, Cross Country\, Football\, Golf\, Swimming\, Soccer\, Tennis\, Track\, Wrestling\, Volleyball & Motocross\n \nWhat You Get: Deepened relationship with Jesus\, FCA Camp Theme T-shirt\, FCA study bible\, quality housing & meals\, exceptional athletic instruction\, practical leadership skills\, inspirational speakers\, lifelong friendships\, & more!\n\n\n\nUnable to pay the full cost today–  \nYou can opt to pay a $100 deposit at the time of registration. The final payment will automatically be processed on the same card on June  9th. \n** $100 deposit is nonrefundable on and after June 9th** \n  \nIf you need financial assistance to attend camp – you must apply for Scholarships BEFORE registering. If your Scholarship request is accepted and processed\, you will be given a code to enter during registration to receive your financial assistance. Each state has their own scholarship process\, please apply in your state. \nRegister at: https://www.southdakotafca.org/camp
URL:https://loveinconline.com/event/fellowship-of-christian-athlets-summer-camp/2027-06-14/
END:VEVENT
BEGIN:VEVENT
DTSTART;VALUE=DATE:20270615
DTEND;VALUE=DATE:20270616
DTSTAMP:20260419T202635
CREATED:20260225T232414Z
LAST-MODIFIED:20260225T233121Z
UID:10001660-1813017600-1813103999@loveinconline.com
SUMMARY:Fellowship of Christian Athlets Summer Camp
DESCRIPTION:  \n  \n\nWhen: June 16th – June 19th\, 2026\n \nWhere: Black Hills State University | Spearfish\, SD\n \nWho: Boys and Girls Grades 7th-12th (Fall 2026)\n \n\nCost: $425 // $550 – Golf \n**$50 off if you register BEFORE April 1st**\n \nSports: Boys & Girls Basketball\, Cheer\, Cross Country\, Football\, Golf\, Swimming\, Soccer\, Tennis\, Track\, Wrestling\, Volleyball & Motocross\n \nWhat You Get: Deepened relationship with Jesus\, FCA Camp Theme T-shirt\, FCA study bible\, quality housing & meals\, exceptional athletic instruction\, practical leadership skills\, inspirational speakers\, lifelong friendships\, & more!\n\n\n\nUnable to pay the full cost today–  \nYou can opt to pay a $100 deposit at the time of registration. The final payment will automatically be processed on the same card on June  9th. \n** $100 deposit is nonrefundable on and after June 9th** \n  \nIf you need financial assistance to attend camp – you must apply for Scholarships BEFORE registering. If your Scholarship request is accepted and processed\, you will be given a code to enter during registration to receive your financial assistance. Each state has their own scholarship process\, please apply in your state. \nRegister at: https://www.southdakotafca.org/camp
URL:https://loveinconline.com/event/fellowship-of-christian-athlets-summer-camp/2027-06-15/
END:VEVENT
BEGIN:VEVENT
DTSTART;VALUE=DATE:20270616
DTEND;VALUE=DATE:20270617
DTSTAMP:20260419T202635
CREATED:20260225T232414Z
LAST-MODIFIED:20260225T233121Z
UID:10001661-1813104000-1813190399@loveinconline.com
SUMMARY:Fellowship of Christian Athlets Summer Camp
DESCRIPTION:  \n  \n\nWhen: June 16th – June 19th\, 2026\n \nWhere: Black Hills State University | Spearfish\, SD\n \nWho: Boys and Girls Grades 7th-12th (Fall 2026)\n \n\nCost: $425 // $550 – Golf \n**$50 off if you register BEFORE April 1st**\n \nSports: Boys & Girls Basketball\, Cheer\, Cross Country\, Football\, Golf\, Swimming\, Soccer\, Tennis\, Track\, Wrestling\, Volleyball & Motocross\n \nWhat You Get: Deepened relationship with Jesus\, FCA Camp Theme T-shirt\, FCA study bible\, quality housing & meals\, exceptional athletic instruction\, practical leadership skills\, inspirational speakers\, lifelong friendships\, & more!\n\n\n\nUnable to pay the full cost today–  \nYou can opt to pay a $100 deposit at the time of registration. The final payment will automatically be processed on the same card on June  9th. \n** $100 deposit is nonrefundable on and after June 9th** \n  \nIf you need financial assistance to attend camp – you must apply for Scholarships BEFORE registering. If your Scholarship request is accepted and processed\, you will be given a code to enter during registration to receive your financial assistance. Each state has their own scholarship process\, please apply in your state. \nRegister at: https://www.southdakotafca.org/camp
URL:https://loveinconline.com/event/fellowship-of-christian-athlets-summer-camp/2027-06-16/
END:VEVENT
BEGIN:VEVENT
DTSTART;VALUE=DATE:20270617
DTEND;VALUE=DATE:20270618
DTSTAMP:20260419T202635
CREATED:20260225T232414Z
LAST-MODIFIED:20260225T233121Z
UID:10001662-1813190400-1813276799@loveinconline.com
SUMMARY:Fellowship of Christian Athlets Summer Camp
DESCRIPTION:  \n  \n\nWhen: June 16th – June 19th\, 2026\n \nWhere: Black Hills State University | Spearfish\, SD\n \nWho: Boys and Girls Grades 7th-12th (Fall 2026)\n \n\nCost: $425 // $550 – Golf \n**$50 off if you register BEFORE April 1st**\n \nSports: Boys & Girls Basketball\, Cheer\, Cross Country\, Football\, Golf\, Swimming\, Soccer\, Tennis\, Track\, Wrestling\, Volleyball & Motocross\n \nWhat You Get: Deepened relationship with Jesus\, FCA Camp Theme T-shirt\, FCA study bible\, quality housing & meals\, exceptional athletic instruction\, practical leadership skills\, inspirational speakers\, lifelong friendships\, & more!\n\n\n\nUnable to pay the full cost today–  \nYou can opt to pay a $100 deposit at the time of registration. The final payment will automatically be processed on the same card on June  9th. \n** $100 deposit is nonrefundable on and after June 9th** \n  \nIf you need financial assistance to attend camp – you must apply for Scholarships BEFORE registering. If your Scholarship request is accepted and processed\, you will be given a code to enter during registration to receive your financial assistance. Each state has their own scholarship process\, please apply in your state. \nRegister at: https://www.southdakotafca.org/camp
URL:https://loveinconline.com/event/fellowship-of-christian-athlets-summer-camp/2027-06-17/
END:VEVENT
BEGIN:VEVENT
DTSTART;VALUE=DATE:20270618
DTEND;VALUE=DATE:20270619
DTSTAMP:20260419T202635
CREATED:20260225T232414Z
LAST-MODIFIED:20260225T233121Z
UID:10001663-1813276800-1813363199@loveinconline.com
SUMMARY:Fellowship of Christian Athlets Summer Camp
DESCRIPTION:  \n  \n\nWhen: June 16th – June 19th\, 2026\n \nWhere: Black Hills State University | Spearfish\, SD\n \nWho: Boys and Girls Grades 7th-12th (Fall 2026)\n \n\nCost: $425 // $550 – Golf \n**$50 off if you register BEFORE April 1st**\n \nSports: Boys & Girls Basketball\, Cheer\, Cross Country\, Football\, Golf\, Swimming\, Soccer\, Tennis\, Track\, Wrestling\, Volleyball & Motocross\n \nWhat You Get: Deepened relationship with Jesus\, FCA Camp Theme T-shirt\, FCA study bible\, quality housing & meals\, exceptional athletic instruction\, practical leadership skills\, inspirational speakers\, lifelong friendships\, & more!\n\n\n\nUnable to pay the full cost today–  \nYou can opt to pay a $100 deposit at the time of registration. The final payment will automatically be processed on the same card on June  9th. \n** $100 deposit is nonrefundable on and after June 9th** \n  \nIf you need financial assistance to attend camp – you must apply for Scholarships BEFORE registering. If your Scholarship request is accepted and processed\, you will be given a code to enter during registration to receive your financial assistance. Each state has their own scholarship process\, please apply in your state. \nRegister at: https://www.southdakotafca.org/camp
URL:https://loveinconline.com/event/fellowship-of-christian-athlets-summer-camp/2027-06-18/
END:VEVENT
BEGIN:VEVENT
DTSTART;VALUE=DATE:20270619
DTEND;VALUE=DATE:20270620
DTSTAMP:20260419T202635
CREATED:20260225T232414Z
LAST-MODIFIED:20260225T233121Z
UID:10001664-1813363200-1813449599@loveinconline.com
SUMMARY:Fellowship of Christian Athlets Summer Camp
DESCRIPTION:  \n  \n\nWhen: June 16th – June 19th\, 2026\n \nWhere: Black Hills State University | Spearfish\, SD\n \nWho: Boys and Girls Grades 7th-12th (Fall 2026)\n \n\nCost: $425 // $550 – Golf \n**$50 off if you register BEFORE April 1st**\n \nSports: Boys & Girls Basketball\, Cheer\, Cross Country\, Football\, Golf\, Swimming\, Soccer\, Tennis\, Track\, Wrestling\, Volleyball & Motocross\n \nWhat You Get: Deepened relationship with Jesus\, FCA Camp Theme T-shirt\, FCA study bible\, quality housing & meals\, exceptional athletic instruction\, practical leadership skills\, inspirational speakers\, lifelong friendships\, & more!\n\n\n\nUnable to pay the full cost today–  \nYou can opt to pay a $100 deposit at the time of registration. The final payment will automatically be processed on the same card on June  9th. \n** $100 deposit is nonrefundable on and after June 9th** \n  \nIf you need financial assistance to attend camp – you must apply for Scholarships BEFORE registering. If your Scholarship request is accepted and processed\, you will be given a code to enter during registration to receive your financial assistance. Each state has their own scholarship process\, please apply in your state. \nRegister at: https://www.southdakotafca.org/camp
URL:https://loveinconline.com/event/fellowship-of-christian-athlets-summer-camp/2027-06-19/
END:VEVENT
END:VCALENDAR