BEGIN:VCALENDAR
VERSION:2.0
PRODID:-//Love INC of the Black Hills - ECPv6.11.2//NONSGML v1.0//EN
CALSCALE:GREGORIAN
METHOD:PUBLISH
X-WR-CALNAME:Love INC of the Black Hills
X-ORIGINAL-URL:https://loveinconline.com
X-WR-CALDESC:Events for Love INC of the Black Hills
REFRESH-INTERVAL;VALUE=DURATION:PT1H
X-Robots-Tag:noindex
X-PUBLISHED-TTL:PT1H
BEGIN:VTIMEZONE
TZID:UTC
BEGIN:STANDARD
TZOFFSETFROM:+0000
TZOFFSETTO:+0000
TZNAME:UTC
DTSTART:20230101T000000
END:STANDARD
END:VTIMEZONE
BEGIN:VEVENT
DTSTART;TZID=UTC:20230223T173000
DTEND;TZID=UTC:20230223T190000
DTSTAMP:20260421T161556
CREATED:20230214T200828Z
LAST-MODIFIED:20230214T200828Z
UID:10000121-1677173400-1677178800@loveinconline.com
SUMMARY:Living in the Light
DESCRIPTION:This mini-class is a Bible-based Lenten devotional.  (2 weeks only). Instructed by Pastor John Britt. On Thursdays\, Feb. 23 AND Mar 2. \nPlease note class dates\, as not all classes last the entire 6 weeks. Classes are FREE and held every Thursday at Grace Methodist Church in Piedmont! We start with a FREE MEAL @ 5:30pm\, classes start @ 6pm\, with the FREE CHILDREN’S nursery and Ministry starting at 6pm. Classes are 1 hour each. Rides from Sturgis/Whitewood are available! \nRegister
URL:https://loveinconline.com/event/living-in-the-light/
LOCATION:Grace Methodist Church\, 10060 Foothill Dr.\, Piedmont\, SD\, 57769\, United States
END:VEVENT
BEGIN:VEVENT
DTSTART;TZID=UTC:20230223T173000
DTEND;TZID=UTC:20230223T190000
DTSTAMP:20260421T161556
CREATED:20230214T200559Z
LAST-MODIFIED:20230214T200559Z
UID:10000120-1677173400-1677178800@loveinconline.com
SUMMARY:Insurance 101
DESCRIPTION:(2 weeks only). This mini-class will offer insights into the world of insurance – home/renter insurance\, life insurance\, and auto insurance. On Thursdays\, Feb. 23 AND Mar 2. \nPlease note class dates\, as not all classes last the entire 6 weeks. Classes are FREE and held every Thursday at Grace Methodist Church in Piedmont! We start with a FREE MEAL @ 5:30pm\, classes start @ 6pm\, with the FREE CHILDREN’S nursery and Ministry starting at 6pm. Classes are 1 hour each. Rides from Sturgis/Whitewood are available! \nRegister
URL:https://loveinconline.com/event/insurance-101/
LOCATION:Grace Methodist Church\, 10060 Foothill Dr.\, Piedmont\, SD\, 57769\, United States
END:VEVENT
BEGIN:VEVENT
DTSTART;TZID=UTC:20230222T173000
DTEND;TZID=UTC:20230222T200000
DTSTAMP:20260421T161556
CREATED:20230214T190350Z
LAST-MODIFIED:20230214T190350Z
UID:10000117-1677087000-1677096000@loveinconline.com
SUMMARY:Black Hills Life INC - Common Sense Parenting
DESCRIPTION:Common Sense Parenting© (CSP) is a group-based parent-training class designed for parents of youths aged 6–16 who exhibit significant behavior and emotional problems. This 6 week course begins Feb. 22 and continues weekly on Wednesdays through March 29. \nRegister Now
URL:https://loveinconline.com/event/black-hills-life-inc-common-sense-parenting/
LOCATION:South Canyon Baptist Church\, 3333 W. Chicago St.\, Rapid City\, SD\, 57702\, United States
ATTACH;FMTTYPE=image/jpeg:https://loveinconline.com/wp-content/uploads/2023/02/LoveINCBlackHills_Events_BH-Late-Winter-Life-INC.jpg
END:VEVENT
BEGIN:VEVENT
DTSTART;TZID=UTC:20230215T120000
DTEND;TZID=UTC:20230215T130000
DTSTAMP:20260421T161556
CREATED:20230214T191432Z
LAST-MODIFIED:20230214T192216Z
UID:10000118-1676462400-1676466000@loveinconline.com
SUMMARY:When Helping Hurts
DESCRIPTION:When Helping Hurts offers a different framework for thinking about poverty and its solution. Rather than simply defining it as lack of material things\, this class addresses the roots of the issue: broken relationships with God\, self\, others\, and the rest of creation. \nThis session meets weekly on Wednesdays from 12:00 to 1:00\, February 15 through March 22. \nRegister
URL:https://loveinconline.com/event/when-helping-hurts/
LOCATION:Love INC Black Hills\, 414 E Omaha St\, Rapid City\, SD\, 57701\, United States
ATTACH;FMTTYPE=image/jpeg:https://loveinconline.com/wp-content/uploads/2023/02/LoveINCBlackHills_Events_When-Helping-Hurts_1.jpg
END:VEVENT
END:VCALENDAR