BEGIN:VCALENDAR
VERSION:2.0
PRODID:-//Love INC of the Black Hills - ECPv6.11.2//NONSGML v1.0//EN
CALSCALE:GREGORIAN
METHOD:PUBLISH
X-ORIGINAL-URL:https://loveinconline.com
X-WR-CALDESC:Events for Love INC of the Black Hills
REFRESH-INTERVAL;VALUE=DURATION:PT1H
X-Robots-Tag:noindex
X-PUBLISHED-TTL:PT1H
BEGIN:VTIMEZONE
TZID:America/Denver
BEGIN:DAYLIGHT
TZOFFSETFROM:-0700
TZOFFSETTO:-0600
TZNAME:MDT
DTSTART:20250309T090000
END:DAYLIGHT
BEGIN:STANDARD
TZOFFSETFROM:-0600
TZOFFSETTO:-0700
TZNAME:MST
DTSTART:20251102T080000
END:STANDARD
END:VTIMEZONE
BEGIN:VEVENT
DTSTART;TZID=America/Denver:20250512T163000
DTEND;TZID=America/Denver:20250512T174500
DTSTAMP:20260423T185211
CREATED:20250416T154005Z
LAST-MODIFIED:20250416T154101Z
UID:10000159-1747067400-1747071900@loveinconline.com
SUMMARY:Safety and Security May 2025
DESCRIPTION:You are invited to join us for “Safety and Security Training” at Love INC on May 12th from 4:30-5:45 PM. This is a basic training for all Love INC staff and volunteers as well as anyone from the community who would like to learn more about basic safety and security. Snacks will be provided.\nSign up for the training HERE
URL:https://loveinconline.com/event/safety-and-securtiy-may-2025/
LOCATION:Love INC Black Hills\, 414 E Omaha St\, Rapid City\, SD\, 57701\, United States
END:VEVENT
END:VCALENDAR