BEGIN:VCALENDAR
VERSION:2.0
PRODID:-//Love INC of the Black Hills - ECPv6.11.2//NONSGML v1.0//EN
CALSCALE:GREGORIAN
METHOD:PUBLISH
X-ORIGINAL-URL:https://loveinconline.com
X-WR-CALDESC:Events for Love INC of the Black Hills
REFRESH-INTERVAL;VALUE=DURATION:PT1H
X-Robots-Tag:noindex
X-PUBLISHED-TTL:PT1H
BEGIN:VTIMEZONE
TZID:UTC
BEGIN:STANDARD
TZOFFSETFROM:+0000
TZOFFSETTO:+0000
TZNAME:UTC
DTSTART:20250101T000000
END:STANDARD
END:VTIMEZONE
BEGIN:VEVENT
DTSTART;TZID=UTC:20251212T180000
DTEND;TZID=UTC:20251212T200000
DTSTAMP:20260421T045044
CREATED:20251206T013533Z
LAST-MODIFIED:20251206T013533Z
UID:10001283-1765562400-1765569600@loveinconline.com
SUMMARY:2nd Annual Winter Market in RISE
DESCRIPTION:Celebrate the season at our festive Winter Market on December 12 (6–8 PM) and December 13 (9 AM–1 PM) at the RISE Store\, 414 E. Omaha Street. \n\nEnjoy unique handcrafted goods\, delicious holiday treats from Fork Real Cafe\, festive photo opportunities\, and special holiday sales. It’s the perfect way to shop local\, connect with the community\, and get into the Christmas spirit! \n\nRushmore Music Festival will be playing live Christmas music on Saturday morning to make it an extra festive holiday experience. \n\nRISE Winter Market will be open for sales on both Friday on Saturday\, with local vendors onsite selling their goods as well.
URL:https://loveinconline.com/event/2nd-annual-winter-market-in-rise/2025-12-12/
LOCATION:Love INC Black Hills\, 414 E Omaha St\, Rapid City\, SD\, 57701\, United States
END:VEVENT
BEGIN:VEVENT
DTSTART;TZID=UTC:20251213T090000
DTEND;TZID=UTC:20251213T130000
DTSTAMP:20260421T045044
CREATED:20251206T013533Z
LAST-MODIFIED:20251206T013533Z
UID:10001284-1765616400-1765630800@loveinconline.com
SUMMARY:2nd Annual Winter Market in RISE
DESCRIPTION:Celebrate the season at our festive Winter Market on December 12 (6–8 PM) and December 13 (9 AM–1 PM) at the RISE Store\, 414 E. Omaha Street. \n\nEnjoy unique handcrafted goods\, delicious holiday treats from Fork Real Cafe\, festive photo opportunities\, and special holiday sales. It’s the perfect way to shop local\, connect with the community\, and get into the Christmas spirit! \n\nRushmore Music Festival will be playing live Christmas music on Saturday morning to make it an extra festive holiday experience. \n\nRISE Winter Market will be open for sales on both Friday on Saturday\, with local vendors onsite selling their goods as well.
URL:https://loveinconline.com/event/2nd-annual-winter-market-in-rise/2025-12-13/
LOCATION:Love INC Black Hills\, 414 E Omaha St\, Rapid City\, SD\, 57701\, United States
END:VEVENT
END:VCALENDAR