BEGIN:VCALENDAR
VERSION:2.0
PRODID:-//Love INC of the Black Hills - ECPv6.11.2//NONSGML v1.0//EN
CALSCALE:GREGORIAN
METHOD:PUBLISH
X-ORIGINAL-URL:https://loveinconline.com
X-WR-CALDESC:Events for Love INC of the Black Hills
REFRESH-INTERVAL;VALUE=DURATION:PT1H
X-Robots-Tag:noindex
X-PUBLISHED-TTL:PT1H
BEGIN:VTIMEZONE
TZID:UTC
BEGIN:STANDARD
TZOFFSETFROM:+0000
TZOFFSETTO:+0000
TZNAME:UTC
DTSTART:20260101T000000
END:STANDARD
END:VTIMEZONE
BEGIN:VEVENT
DTSTART;TZID=UTC:20260301T190000
DTEND;TZID=UTC:20260301T210000
DTSTAMP:20260420T111117
CREATED:20260225T224938Z
LAST-MODIFIED:20260225T224938Z
UID:10001292-1772391600-1772398800@loveinconline.com
SUMMARY:The Mark Drama
DESCRIPTION:  \nThe Mark Drama is a simple\, yet powerful\, performance of the story of Jesus. \n\nThe Mark Drama uses theatre-in-the-round to create a joyful yet hardhitting performance of the Gospel. In the Mark Drama you will watch every incident and hear nearly every word spoken by Jesus as recorded in Mark’s Gospel. All in the space of 90 minutes. It is done in theater in the round without any props or media. The cast of 15 is mostly students from SD Mines.\n\nThere will be two performances\, March 1\, 7pm\, at Open Bible Church and March 2\, 7:30pm\, at the Music Center at School of Mines. \nGet more info HERE
URL:https://loveinconline.com/event/the-mark-drama/2026-03-01/
LOCATION:SD
END:VEVENT
BEGIN:VEVENT
DTSTART;TZID=UTC:20260302T193000
DTEND;TZID=UTC:20260302T213000
DTSTAMP:20260420T111117
CREATED:20260225T224938Z
LAST-MODIFIED:20260225T224938Z
UID:10001293-1772479800-1772487000@loveinconline.com
SUMMARY:The Mark Drama
DESCRIPTION:  \nThe Mark Drama is a simple\, yet powerful\, performance of the story of Jesus. \n\nThe Mark Drama uses theatre-in-the-round to create a joyful yet hardhitting performance of the Gospel. In the Mark Drama you will watch every incident and hear nearly every word spoken by Jesus as recorded in Mark’s Gospel. All in the space of 90 minutes. It is done in theater in the round without any props or media. The cast of 15 is mostly students from SD Mines.\n\nThere will be two performances\, March 1\, 7pm\, at Open Bible Church and March 2\, 7:30pm\, at the Music Center at School of Mines. \nGet more info HERE
URL:https://loveinconline.com/event/the-mark-drama/2026-03-02/
LOCATION:SD
END:VEVENT
BEGIN:VEVENT
DTSTART;TZID=UTC:20260319T173000
DTEND;TZID=UTC:20260319T183000
DTSTAMP:20260420T111117
CREATED:20260318T143719Z
LAST-MODIFIED:20260318T143719Z
UID:10001668-1773941400-1773945000@loveinconline.com
SUMMARY:March Meeting of Rapid City Area Right to Life Chapter
DESCRIPTION:The March meeting of the Rapid City Area Right to Life Chapter will be held on Thursday\, March 19\, at 5:30 p.m. at First Wesleyan Church\, 3040 Marlin Dr.\, Rapid City. 
URL:https://loveinconline.com/event/march-meeting-of-rapid-city-area-right-to-life-chapter/
LOCATION:First Wesleyan Church\, 3040 Marlin Drive\, Rapid City\, SD\, 57701\, United States
END:VEVENT
BEGIN:VEVENT
DTSTART;TZID=UTC:20260320T113000
DTEND;TZID=UTC:20260320T123000
DTSTAMP:20260420T111117
CREATED:20260306T203516Z
LAST-MODIFIED:20260306T205844Z
UID:10001666-1774006200-1774009800@loveinconline.com
SUMMARY:Foster Friendly Church Coalition Meeting
DESCRIPTION:Pastors and ministry leaders\, you’re invited! \n\n\nJoin us for a FREE lunch and one-hour gathering focused on connection and collaboration as we discuss strengthening the WRAP Team ministry in our community. \n\n\nWe’ll share what’s working\, talk through practical ways churches can support foster families\, and explore how we can better care for vulnerable children and families together.  \n  \n\n\n March 20\, 2026 Love INC – 414 East Omaha Street\, Rapid City\, SD 11:30 AM – 12:30 PM \n\n BONUS Giveaway! • Go Upstream book by America’s Kids Belong Founder\, Brian Mavis• Exclusive South Dakota Kids Belong Kids Carnival T-shirt Must RSVP and be present to win!\n\n RSVP by with form below \n\n\n\n                \n                        \n                            March 20 Foster Friendly Church Coalition Luncheon RSVP (1)\n                             \n                        \n                        Name(Required)\n                            \n                            \n                                                    First\n                                                    \n                                                \n                            \n                            \n                                                            Last\n                                                            \n                                                        \n                            \n                        Email(Required)\n                            \n                        PhoneOpt in to recieve texts updates?\n								\n								Yes\n							\n								\n								No
URL:https://loveinconline.com/event/foster-friendly-church-coalition-meeting-3/
LOCATION:Love INC Black Hills\, 414 E Omaha St\, Rapid City\, SD\, 57701\, United States
END:VEVENT
BEGIN:VEVENT
DTSTART;TZID=UTC:20260328T190000
DTEND;TZID=UTC:20260328T210000
DTSTAMP:20260420T111117
CREATED:20260226T224024Z
LAST-MODIFIED:20260226T224024Z
UID:10001665-1774724400-1774731600@loveinconline.com
SUMMARY:March Z8 Worship Night
DESCRIPTION:  \nZ8’s March worship night is coming up on March 28. God is on the move and we are joining His Kingdom’s work! It’s the year for change\, for transformation\, for sacrifice\, for offerings and for making JESUS famous! \nZ8 Worship Nights are designed for middle and high school students to gather together for a fun night of worship and making JESUS famous! \nLearn more about Z8 HERE
URL:https://loveinconline.com/event/march-z8-worship-night/
LOCATION:Hills View E-Free\, 13776 Sturgis Rd\, Piedmont\, SD\, 57769\, United States
END:VEVENT
END:VCALENDAR