BEGIN:VCALENDAR
VERSION:2.0
PRODID:-//Love INC of the Black Hills - ECPv6.11.2//NONSGML v1.0//EN
CALSCALE:GREGORIAN
METHOD:PUBLISH
X-WR-CALNAME:Love INC of the Black Hills
X-ORIGINAL-URL:https://loveinconline.com
X-WR-CALDESC:Events for Love INC of the Black Hills
REFRESH-INTERVAL;VALUE=DURATION:PT1H
X-Robots-Tag:noindex
X-PUBLISHED-TTL:PT1H
BEGIN:VTIMEZONE
TZID:UTC
BEGIN:STANDARD
TZOFFSETFROM:+0000
TZOFFSETTO:+0000
TZNAME:UTC
DTSTART:20260101T000000
END:STANDARD
END:VTIMEZONE
BEGIN:VEVENT
DTSTART;TZID=UTC:20260328T190000
DTEND;TZID=UTC:20260328T210000
DTSTAMP:20260420T113156
CREATED:20260226T224024Z
LAST-MODIFIED:20260226T224024Z
UID:10001665-1774724400-1774731600@loveinconline.com
SUMMARY:March Z8 Worship Night
DESCRIPTION:  \nZ8’s March worship night is coming up on March 28. God is on the move and we are joining His Kingdom’s work! It’s the year for change\, for transformation\, for sacrifice\, for offerings and for making JESUS famous! \nZ8 Worship Nights are designed for middle and high school students to gather together for a fun night of worship and making JESUS famous! \nLearn more about Z8 HERE
URL:https://loveinconline.com/event/march-z8-worship-night/
LOCATION:Hills View E-Free\, 13776 Sturgis Rd\, Piedmont\, SD\, 57769\, United States
END:VEVENT
BEGIN:VEVENT
DTSTART;TZID=UTC:20260207T183000
DTEND;TZID=UTC:20260207T213000
DTSTAMP:20260420T113156
CREATED:20260112T233653Z
LAST-MODIFIED:20260112T233653Z
UID:10001286-1770489000-1770499800@loveinconline.com
SUMMARY:Rapid City Z8 Worship
DESCRIPTION:Rapid City Z8 Worship Night is coming this February! \nZ8 is excited to be kicking off Z8 Worship Nights starting in February. God is on the move and we are joining His Kingdom’s work!! It’s the year for change\, for transformation\, for sacrifice\, for offerings and for making JESUS famous! \nZ8 Worship Nights are designed for middle and high school students to gather together for a fun night of worship and making JESUS famous! \nLearn more about Z8 HERE
URL:https://loveinconline.com/event/rapid-city-z8-worship/
LOCATION:Open Bible Church\, 2225 E Saint Patrick St\, Rapid City\, SD\, 57703\, United States
END:VEVENT
END:VCALENDAR