BEGIN:VCALENDAR
VERSION:2.0
PRODID:-//Love INC of the Black Hills - ECPv6.11.2//NONSGML v1.0//EN
CALSCALE:GREGORIAN
METHOD:PUBLISH
X-WR-CALNAME:Love INC of the Black Hills
X-ORIGINAL-URL:https://loveinconline.com
X-WR-CALDESC:Events for Love INC of the Black Hills
REFRESH-INTERVAL;VALUE=DURATION:PT1H
X-Robots-Tag:noindex
X-PUBLISHED-TTL:PT1H
BEGIN:VTIMEZONE
TZID:UTC
BEGIN:STANDARD
TZOFFSETFROM:+0000
TZOFFSETTO:+0000
TZNAME:UTC
DTSTART:20230101T000000
END:STANDARD
END:VTIMEZONE
BEGIN:VEVENT
DTSTART;TZID=UTC:20230228T113000
DTEND;TZID=UTC:20230228T130000
DTSTAMP:20260420T151337
CREATED:20230214T185941Z
LAST-MODIFIED:20230214T190136Z
UID:10000116-1677583800-1677589200@loveinconline.com
SUMMARY:Vision Lunch
DESCRIPTION:You are invited to attend the Love INC Annual Vision Lunch \nChoose Your Location: \nRapid City @ Fountain Spring East\n912 Centre St\, Rapid City\, SD 57701 \nSturgis @ Grace Lutheran\n1061 Sherman St\, Sturgis\, SD 57785 \nHill City @ St. Rose of Lima\n305 Pine Ave\, Hill City\, SD 57745 \nPlease RSVP by February 24th \nRSVP
URL:https://loveinconline.com/event/vision-lunch/
LOCATION:Fountain Spring East\, 912 Centre St\, Rapid City\, SD\, 57701\, United States
ATTACH;FMTTYPE=image/jpeg:https://loveinconline.com/wp-content/uploads/2023/02/LoveINCBlackHills_Events_Vision-Lunch.jpg
END:VEVENT
END:VCALENDAR